BEGIN:VCALENDAR
VERSION:2.0
PRODID:spatie/icalendar-generator
DESCRIPTION:Events from Okotoks Tennis Center
X-WR-CALDESC:Events from Okotoks Tennis Center
REFRESH-INTERVAL;VALUE=DURATION:PT1440M
X-PUBLISHED-TTL:PT1440M
BEGIN:VTIMEZONE
TZID:Etc/GMT+0
BEGIN:STANDARD
DTSTART:20231231T090000Z
TZOFFSETFROM:+0000
TZOFFSETTO:+0000
END:STANDARD
END:VTIMEZONE
BEGIN:VTIMEZONE
TZID:UTC
BEGIN:STANDARD
DTSTART:20250723T134000Z
TZOFFSETFROM:+0000
TZOFFSETTO:+0000
END:STANDARD
END:VTIMEZONE
BEGIN:VEVENT
UID:356-42
DTSTAMP:20260419T134000Z
SUMMARY:School - COMP - 2 courts
LOCATION:
ORGANIZER;CN=Dejana:MAILTO:derek@brandablegroup.com
DTSTART;TZID=Etc/GMT+0:20240926T090000
DTEND;TZID=Etc/GMT+0:20240926T151500
X-ALT-DESC;FMTTYPE=TEXT/HTML:
CATEGORIES:General
URL;VALUE=URI:https://okotokstennis.com/mc-events/school-comp-2-courts-4/
METHOD:PUBLISH
END:VEVENT
END:VCALENDAR