BEGIN:VCALENDAR
VERSION:2.0
PRODID:spatie/icalendar-generator
DESCRIPTION:Events from Okotoks Tennis Center
X-WR-CALDESC:Events from Okotoks Tennis Center
REFRESH-INTERVAL;VALUE=DURATION:PT1440M
X-PUBLISHED-TTL:PT1440M
BEGIN:VTIMEZONE
TZID:Etc/GMT+0
BEGIN:STANDARD
DTSTART:20231225T120000Z
TZOFFSETFROM:+0000
TZOFFSETTO:+0000
END:STANDARD
END:VTIMEZONE
BEGIN:VTIMEZONE
TZID:UTC
BEGIN:STANDARD
DTSTART:20250724T113424Z
TZOFFSETFROM:+0000
TZOFFSETTO:+0000
END:STANDARD
END:VTIMEZONE
BEGIN:VEVENT
UID:347-34
DTSTAMP:20260420T113424Z
SUMMARY:Private Lesson - Court 1
LOCATION:
ORGANIZER;CN=Dejana:MAILTO:derek@brandablegroup.com
RRULE:FREQ=WEEKLY;UNTIL=20240927T000000Z
DTSTART;TZID=Etc/GMT+0:20240920T120000
DTEND;TZID=Etc/GMT+0:20240920T130000
X-ALT-DESC;FMTTYPE=TEXT/HTML:
CATEGORIES:General
URL;VALUE=URI:https://okotokstennis.com/mc-events/private-lesson-court-1-7/
 ?mc_id=347
METHOD:PUBLISH
END:VEVENT
END:VCALENDAR