BEGIN:VCALENDAR
VERSION:2.0
PRODID:spatie/icalendar-generator
DESCRIPTION:Events from Okotoks Tennis Center
X-WR-CALDESC:Events from Okotoks Tennis Center
REFRESH-INTERVAL;VALUE=DURATION:PT1440M
X-PUBLISHED-TTL:PT1440M
BEGIN:VTIMEZONE
TZID:Etc/GMT+0
BEGIN:STANDARD
DTSTART:20230809T101500Z
TZOFFSETFROM:+0000
TZOFFSETTO:+0000
END:STANDARD
END:VTIMEZONE
BEGIN:VTIMEZONE
TZID:UTC
BEGIN:STANDARD
DTSTART:20250723T120906Z
TZOFFSETFROM:+0000
TZOFFSETTO:+0000
END:STANDARD
END:VTIMEZONE
BEGIN:VEVENT
UID:200-16
DTSTAMP:20260419T120906Z
SUMMARY:Cardio Sessions Sunday Morning - (Beginner)
LOCATION:
ORGANIZER;CN=Dejana:MAILTO:derek@brandablegroup.com
RRULE:FREQ=WEEKLY;UNTIL=20240929T000000Z
DTSTART;TZID=Etc/GMT+0:20240505T101500
DTEND;TZID=Etc/GMT+0:20240505T111500
X-ALT-DESC;FMTTYPE=TEXT/HTML:
CATEGORIES:General
URL;VALUE=URI:https://okotokstennis.com/mc-events/cardio-sessions-sunday-mo
 rning-beginner/?mc_id=200
METHOD:PUBLISH
END:VEVENT
END:VCALENDAR